BEGIN:VCALENDAR
VERSION:2.0
PRODID:Imitheme.com 
BEGIN:VEVENT
UID:20260425T172142551519721
DTSTAMP;TZID=UTC:2026-04-25 17:21:42
DTSTART;TZID=America/Los_Angeles:20260425T172142
DTEND;TZID=America/Los_Angeles:20260425T172142
SUMMARY:TASK Camp
LOCATION:
DESCRIPTION:
URL:https://taskstl.org/eventer/task-camp/
END:VEVENT
END:VCALENDAR
